BEGIN:VCALENDAR
VERSION:2.0
PRODID:-//hacksw/handcal//NONSGML v1.0//EN
CALSCALE:GREGORIAN
BEGIN:VEVENT
DTEND:20260430T161500Z
UID:69e61a5c48e7b
DTSTAMP:20260420T122148Z
SUMMARY:Navigating Your Course + IT Resources
LOCATION:https://watch.liberty.edu/media/t/1_t3dibxom
DESCRIPTION:Event: Navigating Your Course + IT Resources\n\nLink: https://watch.liberty.edu/media/t/1_t3dibxom
DTSTART:20260430T160000Z
BEGIN:VALARM
UID:69e61a5c48e88
ACTION:AUDIO
TRIGGER:-PT1H
ATTACH;VALUE=URI:Chord
X-WR-ALARMUID:69e61a5c48e88
END:VALARM
END:VEVENT
END:VCALENDAR
