BEGIN:VCALENDAR
VERSION:2.0
PRODID:-//hacksw/handcal//NONSGML v1.0//EN
CALSCALE:GREGORIAN
BEGIN:VEVENT
DTEND:20260422T001500Z
UID:69e6648b2c359
DTSTAMP:20260420T173819Z
SUMMARY:Funding Your Education
LOCATION:https://watch.liberty.edu/media/t/1_gtgl2w0e
DESCRIPTION:Event: Funding Your Education\n\nLink: https://watch.liberty.edu/media/t/1_gtgl2w0e
DTSTART:20260422T000000Z
BEGIN:VALARM
UID:69e6648b2c364
ACTION:AUDIO
TRIGGER:-PT1H
ATTACH;VALUE=URI:Chord
X-WR-ALARMUID:69e6648b2c364
END:VALARM
END:VEVENT
END:VCALENDAR
