BEGIN:VCALENDAR
VERSION:2.0
PRODID:-//hacksw/handcal//NONSGML v1.0//EN
CALSCALE:GREGORIAN
BEGIN:VEVENT
DTEND:20260423T170000Z
UID:69e698330fedb
DTSTAMP:20260420T211843Z
SUMMARY:New Student Orientation | Graduate
LOCATION:https://watch.liberty.edu/media/t/1_9gk677df
DESCRIPTION:Event: New Student Orientation | Graduate\n\nLink: https://watch.liberty.edu/media/t/1_9gk677df
DTSTART:20260423T164500Z
BEGIN:VALARM
UID:69e698330fee9
ACTION:AUDIO
TRIGGER:-PT1H
ATTACH;VALUE=URI:Chord
X-WR-ALARMUID:69e698330fee9
END:VALARM
END:VEVENT
END:VCALENDAR
